BEGIN:VCALENDAR
VERSION:2.0
PRODID:-//APRSF - ECPv6.15.17.1//NONSGML v1.0//EN
CALSCALE:GREGORIAN
METHOD:PUBLISH
X-WR-CALNAME:APRSF
X-ORIGINAL-URL:https://www.aprsf.cz
X-WR-CALDESC:Akce na APRSF
REFRESH-INTERVAL;VALUE=DURATION:PT1H
X-Robots-Tag:noindex
X-PUBLISHED-TTL:PT1H
BEGIN:VTIMEZONE
TZID:UTC
BEGIN:STANDARD
TZOFFSETFROM:+0000
TZOFFSETTO:+0000
TZNAME:UTC
DTSTART:20240101T000000
END:STANDARD
END:VTIMEZONE
BEGIN:VEVENT
DTSTART;TZID=UTC:20260923T083000
DTEND;TZID=UTC:20260924T170000
DTSTAMP:20260422T003441
CREATED:20251126T141532Z
LAST-MODIFIED:20260416T112937Z
UID:13764-1790152200-1790269200@www.aprsf.cz
SUMMARY:APRSF Seminář – Svěřenské fondy pro profesionály – 23.-24.9:2026
DESCRIPTION:APRSF Vás s potěšením zve na další ze svých pravidelných seminářů o trustech pro profesionály. \nTento dvoudenní seminář zahrnuje: \nDen 1: Právní teorie a praxe – 23. Září 2026 \n● Co je to svěřenský fond? \n● Co je to soukromý rodinný nadační fond? \n● Historie a vývoj těchto struktur \n● Právní aspekty a dokumentace \n● Návrh optimální struktury \n● Praktické využití včetně příkladů \n● Memorandum přání \n● Rodinné řízení / Dozorčí orgány \nDen 2: Daně\, správa a technické aspekty – 24. Září 2026 \n● Daně \n● AML / Bankovnictví \n● Povinnosti správce \n● Praktická správa \n● Investice / Family Office \nSeminář lze absolvovat jako celek nebo pouze jeden z vybraných dnů. V případě absolvování pouze jednoho dne však neobdržíte certifikát o úspěšném absolvování. \nKurzy jsou vedeny předními specialisty z členských firem APRSF\, včetně Svěřenské fondy a trusty s.r.o.\, Talers\, Havel & Partners\, Kodap\, PKF Apogeo a J&T Family Office. \nPro koho je kurz určen? \nKurz je určen právníkům\, notářům a dalším profesionálům\, kteří chtějí získat základní znalosti o svěřenských fondech pro poradenství svým klientům. \nCertifikace \nPo úspěšném absolvování obou dnů semináře\, včetně závěrečné zkoušky\, obdrží účastníci oficiální certifikát a právo být uvedeni na webových stránkách APRSF jako akreditovaný správce trustu APRSF. \nDatum zahájení:  23. Září 2026 \nČas zahájení: 08:30 \nDatum ukončení: 24. Září 2026 \nČas ukončení: 17:00 \nCena: 12 000CZK \nMísto konání: Insignia Business Centre \nAdresa: Konviktská 291/24\, 110 00 Staré Město \nPoskytovatel školení: APRSF \nAdresa poskytovatele školení:\nSmíchOFF\nPlzeňská 3350/18\n150 00 Praha 5 \nWebová stránka poskytovatele školení: www.aprsf.cz \nE-mailová adresa poskytovatele školení: info@aprsf.cz \nJak se registrovat\nRegistrujte se zasláním e-mailu na info@aprsf.cz\, kde získáte i podrobnější informace o sylabu semináře. \nPro zajímavost se můžete podívat na časový harmonogram semináře na následujícím odkazu: https://www.uplift.cz/wp-content/uploads/2026/02/260223-CZ-Timetable.pdf
URL:https://www.aprsf.cz/event/aprsf-seminar-sverenske-fondy-pro-profesionaly-15-16-4-2026/
LOCATION:Insignia Business Centre\, Konviktská 291/24\, 110 00 Staré Město\, Praha\, 110 00\, Czech Republic
ATTACH;FMTTYPE=image/png:https://www.aprsf.cz/wp-content/uploads/1701182188201-1100x720-1.png
END:VEVENT
BEGIN:VEVENT
DTSTART;TZID=UTC:20260423T130000
DTEND;TZID=UTC:20260423T170000
DTSTAMP:20260422T003441
CREATED:20260319T160316Z
LAST-MODIFIED:20260319T160316Z
UID:14270-1776949200-1776963600@www.aprsf.cz
SUMMARY:Family Governance\, Constitutions and Structuring for Professionals 23 April 2026
DESCRIPTION:Mnozí z nás tráví měsíce prací s klienty a navrhováním skvělých nadací\, svěřenských fondů a dalších daňově efektivních právních struktur. Všimli jste si ale někdy\, že v praxi nefungují tak dobře\, jak jste očekávali? \nNení to tím\, že by byl problém ve strukturách samotných. V regionu CEE je to často tím\, že zadání určoval klient – odráželo jeho vizi\, představy a cíle\, ale opomíjelo názory a potřeby rodiny. \nPokud lidem něco vnucujete\, nemůžete se divit\, že to nepřijmou. \nExistuje ale lepší cesta. \nPokud začnete konverzaci tématem rodinného governance; pokud jako první krok vytvoříte rodinnou ústavu a tzv. „letter of wishes“; pokud více zapojíte širší rodinu\, zjistíte\, že všechny další kroky v procesu budou mnohem jednodušší\, rychlejší a hlavně povedou ke správným výsledkům. \nTo je cílem tohoto kurzu. Prozkoumáme\, co je family governance\, jak funguje a jak ho zavést do praxe. \nKurz se koná v Praze 23. dubna 2026 od 13:00 do 17:00. Je určen pro právníky\, daňové poradce a profesionály z oblasti family office. \nRegistrace\nNa kurz se přihlásíte e-mailem na: info@uplift.cz \nCena kurzu: 6 000 Kč / 250 EUR / 1050 PLN \nKurz proběhne v centru Prahy 23. dubna 2026 od 13:00 do 17:00\, případně jej lze uspořádat i jinde na vyžádání. \nNa těchto stránkách naleznete podrobné informace o kurzu: https://www.uplift.cz/family-governance-course/
URL:https://www.aprsf.cz/event/family-governance-constitutions-and-structuring-for-professionals-23-april-2026/
LOCATION:Praha
ATTACH;FMTTYPE=image/png:https://www.aprsf.cz/wp-content/uploads/IMG_0322.png
END:VEVENT
BEGIN:VEVENT
DTSTART;TZID=UTC:20260320T090000
DTEND;TZID=UTC:20260320T170000
DTSTAMP:20260422T003441
CREATED:20260217T170459Z
LAST-MODIFIED:20260217T170459Z
UID:14142-1773997200-1774026000@www.aprsf.cz
SUMMARY:STEP HUNGARY - Konference 2026 Maďarsko
DESCRIPTION:STEP HUNGARY Vás zve na konferenci v Maďarsku v kooperaci s Budapest Bar Association. \nTéma konference: Přeshraniční strukturování majetku ve střední Evropě i mimo ni\, trusty\, nadace a plánování majetku z pohledu střední a východní Evropy \nDatum a čas: 20. Dubna 2026\, od 09:00 do 17:00 \nMísto:\nBUDAPEST BAR ASSOCIATION\nSzalay str 7.\nBudapest 1055\nHungary \nWEB akce: https://www.stephungary2026.hu/event/step-hungary-conference-2026-budapest-8/register \n 
URL:https://www.aprsf.cz/event/step-hungary-konference-2026-madarsko/
LOCATION:Budapešť\, Maďarsko\, Hungary
ATTACH;FMTTYPE=image/jpeg:https://www.aprsf.cz/wp-content/uploads/IMG_0281.jpeg
END:VEVENT
BEGIN:VEVENT
DTSTART;TZID=UTC:20251105T083000
DTEND;TZID=UTC:20251106T170000
DTSTAMP:20260422T003441
CREATED:20250312T151421Z
LAST-MODIFIED:20250912T202346Z
UID:11916-1762331400-1762448400@www.aprsf.cz
SUMMARY:APRSF Seminář – Svěřenské fondy pro profesionály – 5. - 6. listopadu 2025
DESCRIPTION:APRSF s potěšením zve na další ze svých pravidelných seminářů o trustech pro profesionály. \nTento dvoudenní seminář zahrnuje: \nDen 1: Právní teorie a praxe – 05. listopadu \n● Co je to svěřenský fond?\n● Co je to soukromý rodinný nadační fond?\n● Historie a vývoj těchto struktur\n● Právní aspekty a dokumentace\n● Návrh optimální struktury\n● Praktické využití včetně příkladů\n● Memorandum přání\n● Rodinné řízení / Dozorčí orgány\nDen 2: Daně\, správa a technické aspekty – 06. listopadu \n● Daně\n● AML / Bankovnictví\n● Povinnosti správce\n● Praktická správa\n● Investice / Family Office\nSeminář lze absolvovat jako celek nebo pouze jeden z vybraných dnů.  \nKurzy jsou vedeny předními specialisty z členských firem APRSF\, včetně Svěřenské fondy a trusty s.r.o.\, Talers\, Havel & Partners\, Kodap\, PKF Apogeo a J&T Family Office. \nPro koho je kurz určen? \nKurz je určen právníkům\, notářům a dalším profesionálům\, kteří chtějí získat základní znalosti o svěřenských fondech pro poradenství svým klientům. \nCertifikace \nPo úspěšném absolvování obou dnů semináře\, včetně závěrečné zkoušky\, obdrží účastníci oficiální certifikát a právo být uvedeni na webových stránkách APRSF jako akreditovaný správce trustu APRSF. \nDatum zahájení: 05. listopadu \nČas zahájení: 08:30 \nDatum ukončení: 06. listopadu \nČas ukončení: 17:00 \nCena: 12 000CZK \nMísto konání: Místo bude upřesněno (Praha) \nAdresa: Bude upřesněna \nPoskytovatel školení: APRSF \nAdresa poskytovatele školení: \nSmíchOFF\nPlzeňská 3350/18\n150 00 Praha 5 \nWebová stránka poskytovatele školení: \nwww.aprsf.cz \nE-mailová adresa poskytovatele školení: \ninfo@aprsf.cz \nJak se registrovat \nRegistrujte se zasláním e-mailu na info@aprsf.cz\, kde získáte i podrobnější informace o sylabu semináře.
URL:https://www.aprsf.cz/event/aprsf-seminar-pro-sverenske-spravce-a-poradce-8-4-9-4-2025/
LOCATION:Praha
CATEGORIES:APRSF
ATTACH;FMTTYPE=image/png:https://www.aprsf.cz/wp-content/uploads/1701182188201-1100x720-1.png
END:VEVENT
BEGIN:VEVENT
DTSTART;TZID=UTC:20251015T160000
DTEND;TZID=UTC:20251015T180000
DTSTAMP:20260422T003441
CREATED:20250731T061850Z
LAST-MODIFIED:20251007T063934Z
UID:13189-1760544000-1760551200@www.aprsf.cz
SUMMARY:STEP Webinář Lekce z Québecu - Inspirace pro Svěřenské fondy
DESCRIPTION:STEP pořádá v říjnu webinář o trustech v Quebecu! \nPro každého\, kdo se zajímá o české svěřenské fondy\, bude tento webinář nezbytný. Nejenže quebecký občanský zákoník inspiroval české svěřenské fondy\, ale quebecké právo zůstává nejbližším ekvivalentem našeho vlastního. S více než 30 lety zkušeností s uplatňováním tohoto právního rámce nás Quebec má hodně co naučit. \nPřednášející bude Caroline Rhéaume\, přední odbornice na quebecké právo svěřenských fondů. Její kvalifikace mluví sama za sebe a je také vynikající řečnicí.\nRegistrace jsou otevřeny! \nChcete-li se zaregistrovat\, napište e-mail na czsk@step.org.
URL:https://www.aprsf.cz/event/step-webinar-lekce-z-quebecu-inspirace-pro-sverenske-fondy/
ATTACH;FMTTYPE=image/jpeg:https://www.aprsf.cz/wp-content/uploads/Quebec-webinar-flyer.jpeg
END:VEVENT
BEGIN:VEVENT
DTSTART;TZID=UTC:20250929T150000
DTEND;TZID=UTC:20250929T170000
DTSTAMP:20260422T003441
CREATED:20250801T163154Z
LAST-MODIFIED:20250801T163154Z
UID:13204-1759158000-1759165200@www.aprsf.cz
SUMMARY:Předmanželské smlouvy: české a mezinárodní perspektivy
DESCRIPTION:APRSF s potěšením oznamuje spolupráci se STEP na další nadcházející offline setkání. \nZúčastněte se odborné diskuse na téma Předmanželské smlouvy: české a mezinárodní perspektivy. \nAkci pořádají STEP\, EMUN a Česká advokátní komora. Mezinárodní experti se budou zabývat rozdíly mezi českým a mezinárodním přístupem k předmanželským smlouvám a identifikují silné stránky českého režimu\, jakož i příležitosti ke zlepšení. \nSoučástí programu bude řada poutavých přeshraničních případových studií a právních poznatků. \nHlavní řečníci: \nDaniel Lehmann\, Heuking Kühn Lüer Wojtek\, Mnichov\nJohn Davies\, Farrer & Co.\, Londýn\nMartin Kornel\, Masarykova univerzita\, Brno\nValentina Beccaria\, advokátní kancelář Accolla\, Milán\, Itálie \nTato akce\, která bude probíhat v anglickém jazyce\, je otevřená všem.\nBude zakončena networkingem a občerstvením\, což nabídne další možnost pokračovat v diskusi v uvolněném a neformálním prostředí. \nMísto konání: Palác Dunaj\nAdresa: Národní 138/10\, Praha\nVstupné: 500 Kč \nClick here to register.
URL:https://www.aprsf.cz/event/predmanzelske-smlouvy-ceske-a-mezinarodni-perspektivy/
LOCATION:Praha
ATTACH;FMTTYPE=image/jpeg:https://www.aprsf.cz/wp-content/uploads/Prenup-scale.jpeg
END:VEVENT
BEGIN:VEVENT
DTSTART;VALUE=DATE:20250617
DTEND;VALUE=DATE:20250628
DTSTAMP:20260422T003441
CREATED:20250523T100004Z
LAST-MODIFIED:20250523T100004Z
UID:12813-1750118400-1751068799@www.aprsf.cz
SUMMARY:Hlasování valné hromady APRSF per rollam
DESCRIPTION:Letošní hlasování valné hromady APRSF proběhne formou „per rollam“ v termínu 17.–27. 6. 2025. Pozvánku\, podklady i hlasovací lístky obdrží členové APRSF e-mailem. Sledujte prosím svou schránku.
URL:https://www.aprsf.cz/event/hlasovani-valne-hromady-aprsf-per-rollam/
END:VEVENT
BEGIN:VEVENT
DTSTART;TZID=UTC:20250414T083000
DTEND;TZID=UTC:20250414T173000
DTSTAMP:20260422T003441
CREATED:20250313T084514Z
LAST-MODIFIED:20250313T084514Z
UID:12250-1744619400-1744651800@www.aprsf.cz
SUMMARY:Svěřenské fondy v praxi
DESCRIPTION:Přijďte si poslechnout: \n• Co to je svěřenský fond\n• K čemu slouží\n• Jaké má využití\n• Co je potřeba k jeho založení\n• Jak si vybrat svěřenského správce\n• Jaké jsou povinnosti svěřenského správce\n• Jak je to s daněním\n\nSeminářem Vás provede Mgr. Eva Hrušková\, TEP – právnička a jednatelka společnosti Svěřenské fondy a trusty s.r.o. a takéspoluautorka knihy Svěřenské fondy – krok za krokem (nověpod názvem Plán – jak ochránit vše\, co za život vybudujete).\nS daňovou problematikou Vás seznámí Ing. Matěj Nešleha\, daňový poradce a člen prezidia daňových poradců. \nNa akci bude zajištěno občerstvení\, káva\, čaj a také networking s vínem od someliérky Kristýny Krupkové\, při kterém bude časvše podrobněji diskutovat. \nAdresa: Insignia Business Centre\, Konviktská 291/24\, Praha 1 \nPodrobný syllabus ke stažení naleznete zde: https://www.trusty.cz/seminare/sverenske-fondy-v-praxi/ \nJak se registrovat: Přes objednávkový formulář v odkazuhttps://www.trusty.cz/seminare/sverenske-fondy-v-praxi/
URL:https://www.aprsf.cz/event/sverenske-fondy-v-praxi/
LOCATION:Insignia Business Centre\, Konviktská 291/24\, 110 00 Staré Město\, Praha\, 110 00\, Czech Republic
ATTACH;FMTTYPE=image/jpeg:https://www.aprsf.cz/wp-content/uploads/483364081_1322805333185959_614686163988253406_n.jpeg
ORGANIZER;CN="Sv%C4%9B%C5%99eneck%C3%A9 fondy a trusty s. r. o.":MAILTO:info@trusty.cz
END:VEVENT
BEGIN:VEVENT
DTSTART;TZID=UTC:20250403T090000
DTEND;TZID=UTC:20250403T160000
DTSTAMP:20260422T003441
CREATED:20250311T163457Z
LAST-MODIFIED:20250318T071622Z
UID:12219-1743670800-1743696000@www.aprsf.cz
SUMMARY:Svěřenské fondy pro pokročilé z pohledu transakčních\, daňových a legislativních konsekvencí včetně příkladů
DESCRIPTION:Téma:\nNa semináři budete seznámeni s našimi zkušenostmi se svěřenským fondem a jeho fungováním v podmínkách české legislativy\, zejména s praktickou zkušeností s jeho vznikem a správou. Věnovat se budete také konkrétním právním\, daňovým a účetním otázkám a dále též jednotlivými aktérům a jejich rolím ve svěřenském fondu. Nastíněny budou výhody a nevýhody svěřenského fondu\, praktické zkušenosti a limity při zakládání. \nKomu je seminář určen:\nSeminář je určen širší veřejnosti (podnikatelská sféra – fyzické i právnické osoby) s významným portfoliem aktiv\, kteří mají zájem se dozvědět praktické informace spojené s institutem tzv. svěřenského fondu. Zejména však ty\, kteří o jeho pořízení uvažují či jej dokonce „mají“ nebo ty\, kteří se o fond již starají či se budou starat (správci\, banky\, další poradci). \nČasový rozsah:\n9:00-16:00 \nForma výuky:\nPrezenčně \nPřednášející:\n\nTomáš Pacovský\, Managing Partner\nPavel Postl\, Senior  Partner\, Strategie a M&A\nPetr Oulík\, notář\n\nProgram:\nSvěřenský fond – rekapitulace – aneb\, co byste již měli vědět: \n\npodstata svěřenského fondu\,\nprávní úprava\,\naktéři (zakladatel\, svěřenský správce\, obmyšlení).\n\nFungování svěřenského fondu a současná praxe: \n\nvznik svěřenského fondu\,\nstatut svěřenského fondu\,\ndoba trvání svěřenské správy\,\nvyčlenění majetku a jeho správa (včetně otázek ochrany věřitele\, zakladatele)\,\nplnění obmyšlenému vs. plnění účelu svěřenského fondu (včetně metod právního štítu)\,\ndohled nad správou\,\nzánik správy.\n\nTransakční a daňové souvislosti: \n\núčetní a daňové aspekty (registrace k dani\, odpisy majetku\, DPH atd.)\,\nzdanění při vyčlenění majetku\,\nzdanění příjmu obmyšleného\,\nočekávaný vývoj (daně\, registry\, evidence atd.).\n\nModelové příklady: \n\nochrana před nečekaným výpadkem společníka a řešení nástupnictví\,\nochrana majetku – rodinná aktiva\,\nalternativa uspořádání SJM\,\nnáhradní obmyšlení a odkazy neziskovým organizací.\n\nOdpovědi na dotazy. \nPoznámka:\nSeminář je připraven ve spolupráci s 1.VOX  s.r.o. 
URL:https://www.aprsf.cz/event/sverenske-fondy-pro-pokrocile-z-pohledu-transakcnich-danovych-a-legislativnich-konsekvenci-vcetne-prikladu/
LOCATION:Senovážné náměstí 23\, 110 00 Praha 1\, Senovážné náměstí 23\,\, 110 00\, Praha\, 110 00\, Czech Republic
ATTACH;FMTTYPE=image/png:https://www.aprsf.cz/wp-content/uploads/627e6645385a5.png
ORGANIZER;CN="PKF Apogeo":MAILTO:info@pkfapogeo.cz
END:VEVENT
END:VCALENDAR